Workbook

Sheet Scanninger
A1: EAN | B1: Antal
A2: Indsæt datarækkerne fra hver tællers DataScan-eksport fra række 4 og nedefter, uden overskriftsrækker: stregkode i kolonne A, antal i kolonne B. Brug Indsæt speciel > Værdier, så EAN-numrene beholder tekstformatet.
A3: Antal læst som tekst (skal være 0): | B3: =COUNTA($B$4:$B$20000)-COUNT($B$4:$B$20000)

Sheet Optællingsliste
A1: EAN | B1: Varenummer | C1: Beskrivelse | D1: Lokation | E1: Systembeholdning | F1: Optalt beholdning | G1: Difference
F2: =IF(A2="","",IF(COUNTIF('Scanninger'!$A:$A,A2)=0,"",SUMIF('Scanninger'!$A:$A,A2,'Scanninger'!$B:$B))) | G2: =IF(OR(A2="",E2="",F2=""),"",F2-E2)
F3: =IF(A3="","",IF(COUNTIF('Scanninger'!$A:$A,A3)=0,"",SUMIF('Scanninger'!$A:$A,A3,'Scanninger'!$B:$B))) | G3: =IF(OR(A3="",E3="",F3=""),"",F3-E3)
F4: =IF(A4="","",IF(COUNTIF('Scanninger'!$A:$A,A4)=0,"",SUMIF('Scanninger'!$A:$A,A4,'Scanninger'!$B:$B))) | G4: =IF(OR(A4="",E4="",F4=""),"",F4-E4)
F5: =IF(A5="","",IF(COUNTIF('Scanninger'!$A:$A,A5)=0,"",SUMIF('Scanninger'!$A:$A,A5,'Scanninger'!$B:$B))) | G5: =IF(OR(A5="",E5="",F5=""),"",F5-E5)
F6: =IF(A6="","",IF(COUNTIF('Scanninger'!$A:$A,A6)=0,"",SUMIF('Scanninger'!$A:$A,A6,'Scanninger'!$B:$B))) | G6: =IF(OR(A6="",E6="",F6=""),"",F6-E6)
F7: =IF(A7="","",IF(COUNTIF('Scanninger'!$A:$A,A7)=0,"",SUMIF('Scanninger'!$A:$A,A7,'Scanninger'!$B:$B))) | G7: =IF(OR(A7="",E7="",F7=""),"",F7-E7)
F8: =IF(A8="","",IF(COUNTIF('Scanninger'!$A:$A,A8)=0,"",SUMIF('Scanninger'!$A:$A,A8,'Scanninger'!$B:$B))) | G8: =IF(OR(A8="",E8="",F8=""),"",F8-E8)
F9: =IF(A9="","",IF(COUNTIF('Scanninger'!$A:$A,A9)=0,"",SUMIF('Scanninger'!$A:$A,A9,'Scanninger'!$B:$B))) | G9: =IF(OR(A9="",E9="",F9=""),"",F9-E9)
F10: =IF(A10="","",IF(COUNTIF('Scanninger'!$A:$A,A10)=0,"",SUMIF('Scanninger'!$A:$A,A10,'Scanninger'!$B:$B))) | G10: =IF(OR(A10="",E10="",F10=""),"",F10-E10)
F11: =IF(A11="","",IF(COUNTIF('Scanninger'!$A:$A,A11)=0,"",SUMIF('Scanninger'!$A:$A,A11,'Scanninger'!$B:$B))) | G11: =IF(OR(A11="",E11="",F11=""),"",F11-E11)
F12: =IF(A12="","",IF(COUNTIF('Scanninger'!$A:$A,A12)=0,"",SUMIF('Scanninger'!$A:$A,A12,'Scanninger'!$B:$B))) | G12: =IF(OR(A12="",E12="",F12=""),"",F12-E12)
F13: =IF(A13="","",IF(COUNTIF('Scanninger'!$A:$A,A13)=0,"",SUMIF('Scanninger'!$A:$A,A13,'Scanninger'!$B:$B))) | G13: =IF(OR(A13="",E13="",F13=""),"",F13-E13)
... F501: =IF(A501="","",IF(COUNTIF('Scanninger'!$A:$A,A501)=0,"",SUMIF('Scanninger'!$A:$A,A501,'Scanninger'!$B:$B))) | G501: =IF(OR(A501="",E501="",F501=""),"",F501-E501)
